BEGIN:VCALENDAR
VERSION:2.0
PRODID:-//Urban Freight Lab - ECPv6.3.4//NONSGML v1.0//EN
CALSCALE:GREGORIAN
METHOD:PUBLISH
X-ORIGINAL-URL:https://urbanfreightlab.com
X-WR-CALDESC:Events for Urban Freight Lab
REFRESH-INTERVAL;VALUE=DURATION:PT1H
X-Robots-Tag:noindex
X-PUBLISHED-TTL:PT1H
BEGIN:VTIMEZONE
TZID:America/Los_Angeles
BEGIN:DAYLIGHT
TZOFFSETFROM:-0800
TZOFFSETTO:-0700
TZNAME:PDT
DTSTART:20260308T100000
END:DAYLIGHT
BEGIN:STANDARD
TZOFFSETFROM:-0700
TZOFFSETTO:-0800
TZNAME:PST
DTSTART:20261101T090000
END:STANDARD
END:VTIMEZONE
BEGIN:VEVENT
DTSTART;VALUE=DATE:20260112
DTEND;VALUE=DATE:20260113
DTSTAMP:20260424T103314
CREATED:20260109T225919Z
LAST-MODIFIED:20260110T042342Z
UID:7779-1768176000-1768262399@urbanfreightlab.com
SUMMARY:Transportation Research Board (TRB) Annual Meeting
DESCRIPTION:Presentation: Curb Digitalization for Last-Mile Deliveries (P26-20708)\nPresenter: Giacomo Dalla Chiara\nPanel: Unlocking the Power of Curb Data: Applications of the Curb Data Specification (Lectern Session 2048)\nDate & Time: Monday\, January 12\, 10:30 a.m. – 12:15 p.m. \nDescription: Cities are increasingly recognizing the curb as one of the most valuable—and most contested—pieces of public space. From rideshare pickups and delivery zones to micro-mobility parking and freight loading\, demand at the curb is higher than ever. The Curb Data Specification (CDS) provides a common language for cities\, technology providers\, and operators to manage this complexity. \nThis session will explore how cities are applying CDS to improve curb management and support broader mobility goals. Case studies will highlight lessons learned from early adopters\, demonstrate the role of CDS in enabling better coordination with private operators\, and showcase opportunities to use data-driven approaches for curbside policy and planning. Attendees will gain a practical understanding of how to apply these insights to develop effective curb management strategies\, strengthen public-private coordination\, and enhance data-driven decision-making in urban planning practice.
URL:https://urbanfreightlab.com/ufl-event/transportation-research-board-trb-annual-meeting-4/
CATEGORIES:Presentations
END:VEVENT
BEGIN:VEVENT
DTSTART;VALUE=DATE:20260113
DTEND;VALUE=DATE:20260114
DTSTAMP:20260424T103314
CREATED:20260109T231529Z
LAST-MODIFIED:20260111T045654Z
UID:7784-1768262400-1768348799@urbanfreightlab.com
SUMMARY:Transportation Research Board (TRB) Annual Meeting
DESCRIPTION:Poster: A Comparative Analysis of Commercial Vehicle Load Zone Programs Across U.S. Cities (TRBAM-26-01448)\nAuthors: Giacomo Dalla Chiara\, Yu-Chen Chu\, Kelly Rula\, Anne Goodchild\nSession: Last-Mile and Behavioral Logistics (3163)\nDate & Time: Tuesday\, January 13\, 8 a.m. – 9:45 a.m. \nPoster: Understanding Carrier Preferences for Urban Freight Parking Pricing: A Discrete Choice Experiment in Seattle (TRBAM-26-04174)\nAuthors: Arsalan Esmaili\, Giacomo Dalla Chiara\, Rubina Singh\, Kelly Rula\, Anne Goodchild\nSession: Current Research in Urban Freight Transportation (3036)\nDate & Time: Tuesday\, January 13\, 8 a.m. – 9:45 a.m. \nPoster: Location-Routing Problem with a Mixed Fleet of E-Cargo Bikes in a Zero-Emission Delivery Zone: The Case of Portland (TRBAM-26-05673)\nAuthors: Chaoyi Zhang\, Anne Goodchild\, Kelly Rula\nSession: Current Research in Urban Freight Transportation (3036)\nDate & Time: Tuesday\, January 13\, 8 a.m. – 9:45 a.m.
URL:https://urbanfreightlab.com/ufl-event/transportation-research-board-trb-annual-meeting-6/
CATEGORIES:Presentations
END:VEVENT
END:VCALENDAR