BEGIN:VCALENDAR
VERSION:2.0
PRODID:-//Urban Freight Lab - ECPv6.3.4//NONSGML v1.0//EN
CALSCALE:GREGORIAN
METHOD:PUBLISH
X-WR-CALNAME:Urban Freight Lab
X-ORIGINAL-URL:https://urbanfreightlab.com
X-WR-CALDESC:Events for Urban Freight Lab
REFRESH-INTERVAL;VALUE=DURATION:PT1H
X-Robots-Tag:noindex
X-PUBLISHED-TTL:PT1H
BEGIN:VTIMEZONE
TZID:America/Los_Angeles
BEGIN:DAYLIGHT
TZOFFSETFROM:-0800
TZOFFSETTO:-0700
TZNAME:PDT
DTSTART:20250309T100000
END:DAYLIGHT
BEGIN:STANDARD
TZOFFSETFROM:-0700
TZOFFSETTO:-0800
TZNAME:PST
DTSTART:20251102T090000
END:STANDARD
END:VTIMEZONE
BEGIN:VEVENT
DTSTART;TZID=America/Los_Angeles:20251126T080000
DTEND;TZID=America/Los_Angeles:20251127T170000
DTSTAMP:20260421T105928
CREATED:20251008T172941Z
LAST-MODIFIED:20251008T173121Z
UID:7729-1764144000-1764262800@urbanfreightlab.com
SUMMARY:POLIS Annual Conference
DESCRIPTION:
URL:https://urbanfreightlab.com/ufl-event/polis-annual-conference/
LOCATION:Utrecht\, Netherlands
CATEGORIES:Conferences
END:VEVENT
END:VCALENDAR