BEGIN:VCALENDAR
VERSION:2.0
PRODID:-//Urban Freight Lab - ECPv6.3.4//NONSGML v1.0//EN
CALSCALE:GREGORIAN
METHOD:PUBLISH
X-WR-CALNAME:Urban Freight Lab
X-ORIGINAL-URL:https://urbanfreightlab.com
X-WR-CALDESC:Events for Urban Freight Lab
REFRESH-INTERVAL;VALUE=DURATION:PT1H
X-Robots-Tag:noindex
X-PUBLISHED-TTL:PT1H
BEGIN:VTIMEZONE
TZID:America/Los_Angeles
BEGIN:DAYLIGHT
TZOFFSETFROM:-0800
TZOFFSETTO:-0700
TZNAME:PDT
DTSTART:20250309T100000
END:DAYLIGHT
BEGIN:STANDARD
TZOFFSETFROM:-0700
TZOFFSETTO:-0800
TZNAME:PST
DTSTART:20251102T090000
END:STANDARD
END:VTIMEZONE
BEGIN:VEVENT
DTSTART;VALUE=DATE:20250527
DTEND;VALUE=DATE:20250530
DTSTAMP:20260421T181533
CREATED:20250325T193419Z
LAST-MODIFIED:20250325T195312Z
UID:7580-1748304000-1748563199@urbanfreightlab.com
SUMMARY:TRB Conference on Data and AI for Transportation Advancement
DESCRIPTION:Artificial Intelligence and data analysis have the potential to help the transportation system better reach its goals of providing safe and efficient ways to move people and goods. The DATA conference will bridge the gap between the data\, cutting-edge technologies\, and computing processes and the challenges and opportunities for organizations and agencies to incorporate these into their workflow. Presenters will emphasize concrete outcomes and examples of advancing AI and data analysis within the transportation industry and highlight practical solutions and programs. Workshops and tours are available on Tuesday\, May 27\, 2025. \nParticipants will: \n\nUnderstand the data used to build AI and Machine Learning models\nUnderstand the fundamentals of AI and data analysis and their interplay with transportation decision making\, practices\, policies\, guidance\, and regulations\nExchange ideas about AI and machine learning implementation frameworks and mechanisms within a transportation environment\nUnderstand the data needed to support new initiatives\nIdentify successful methods\, strategies\, and tools agencies can consider to measure performance within their investment and implementation strategies\nFrame future research to address ongoing questions and pervasive gaps in knowledge and practice
URL:https://urbanfreightlab.com/ufl-event/trb-conference-on-data-and-ai-for-transportation-advancement/
LOCATION:Westin Hotel\, 1900 5th Ave.\, Seattle\, WA\, United States
CATEGORIES:Conferences
END:VEVENT
END:VCALENDAR