BEGIN:VCALENDAR
VERSION:2.0
PRODID:-//Urban Freight Lab - ECPv6.3.4//NONSGML v1.0//EN
CALSCALE:GREGORIAN
METHOD:PUBLISH
X-ORIGINAL-URL:https://urbanfreightlab.com
X-WR-CALDESC:Events for Urban Freight Lab
REFRESH-INTERVAL;VALUE=DURATION:PT1H
X-Robots-Tag:noindex
X-PUBLISHED-TTL:PT1H
BEGIN:VTIMEZONE
TZID:America/Los_Angeles
BEGIN:DAYLIGHT
TZOFFSETFROM:-0800
TZOFFSETTO:-0700
TZNAME:PDT
DTSTART:20240310T100000
END:DAYLIGHT
BEGIN:STANDARD
TZOFFSETFROM:-0700
TZOFFSETTO:-0800
TZNAME:PST
DTSTART:20241103T090000
END:STANDARD
END:VTIMEZONE
BEGIN:VEVENT
DTSTART;VALUE=DATE:20240328
DTEND;VALUE=DATE:20240330
DTSTAMP:20260424T121406
CREATED:20240129T233630Z
LAST-MODIFIED:20240129T233630Z
UID:7328-1711584000-1711756799@urbanfreightlab.com
SUMMARY:Curbivore 2024
DESCRIPTION:These last few years have marked an unprecedented shift in how people view and use their cities\, and the restaurants\, bars\, small businesses\, and transportation systems that make them unique. \nAs commerce rapidly moves to the curb\, Curbivore is thrilled to announce that we are gathering in person – on March 28 & 29\, outdoors in Downtown LA – giving our community a chance to see\, touch\, and feel the technology that’s reshaping our future\, as well as meet with the civic leaders and forward-thinking entrepreneurs that are ensuring nobody is left behind as we reshape our cities and businesses for the better. This gathering is not only a call to rethink our streets – it’s a celebration of the amazing organizations making that transition possible\, and a chance to sample some of the best cuisine and street food in the country.
URL:https://urbanfreightlab.com/ufl-event/curbivore-2024/
CATEGORIES:Conferences
END:VEVENT
END:VCALENDAR